BEGIN:VCALENDAR
VERSION:2.0
PRODID:-//Argos Public Library - ECPv6.15.18//NONSGML v1.0//EN
CALSCALE:GREGORIAN
METHOD:PUBLISH
X-WR-CALNAME:Argos Public Library
X-ORIGINAL-URL:https://argospubliclibrary.com
X-WR-CALDESC:Events for Argos Public Library
REFRESH-INTERVAL;VALUE=DURATION:PT1H
X-Robots-Tag:noindex
X-PUBLISHED-TTL:PT1H
BEGIN:VTIMEZONE
TZID:America/Indiana/Indianapolis
BEGIN:DAYLIGHT
TZOFFSETFROM:-0500
TZOFFSETTO:-0400
TZNAME:EDT
DTSTART:20230312T070000
END:DAYLIGHT
BEGIN:STANDARD
TZOFFSETFROM:-0400
TZOFFSETTO:-0500
TZNAME:EST
DTSTART:20231105T060000
END:STANDARD
BEGIN:DAYLIGHT
TZOFFSETFROM:-0500
TZOFFSETTO:-0400
TZNAME:EDT
DTSTART:20240310T070000
END:DAYLIGHT
BEGIN:STANDARD
TZOFFSETFROM:-0400
TZOFFSETTO:-0500
TZNAME:EST
DTSTART:20241103T060000
END:STANDARD
BEGIN:DAYLIGHT
TZOFFSETFROM:-0500
TZOFFSETTO:-0400
TZNAME:EDT
DTSTART:20250309T070000
END:DAYLIGHT
BEGIN:STANDARD
TZOFFSETFROM:-0400
TZOFFSETTO:-0500
TZNAME:EST
DTSTART:20251102T060000
END:STANDARD
END:VTIMEZONE
BEGIN:VEVENT
DTSTART;TZID=America/Indiana/Indianapolis:20240906T161500
DTEND;TZID=America/Indiana/Indianapolis:20240906T170000
DTSTAMP:20260419T140337
CREATED:20240904T143611Z
LAST-MODIFIED:20240904T143611Z
UID:984-1725639300-1725642000@argospubliclibrary.com
SUMMARY:TNT
DESCRIPTION:TNT is an activity time for teens and tweens.
URL:https://argospubliclibrary.com/event/tnt/
CATEGORIES:Tween/Teen
ATTACH;FMTTYPE=image/png:https://argospubliclibrary.com/wp-content/uploads/2024/09/tnt.png
END:VEVENT
END:VCALENDAR