BEGIN:VCALENDAR
VERSION:2.0
PRODID:-//Argos Public Library - ECPv6.15.18//NONSGML v1.0//EN
CALSCALE:GREGORIAN
METHOD:PUBLISH
X-ORIGINAL-URL:https://argospubliclibrary.com
X-WR-CALDESC:Events for Argos Public Library
REFRESH-INTERVAL;VALUE=DURATION:PT1H
X-Robots-Tag:noindex
X-PUBLISHED-TTL:PT1H
BEGIN:VTIMEZONE
TZID:America/Indiana/Indianapolis
BEGIN:DAYLIGHT
TZOFFSETFROM:-0500
TZOFFSETTO:-0400
TZNAME:EDT
DTSTART:20240310T070000
END:DAYLIGHT
BEGIN:STANDARD
TZOFFSETFROM:-0400
TZOFFSETTO:-0500
TZNAME:EST
DTSTART:20241103T060000
END:STANDARD
BEGIN:DAYLIGHT
TZOFFSETFROM:-0500
TZOFFSETTO:-0400
TZNAME:EDT
DTSTART:20250309T070000
END:DAYLIGHT
BEGIN:STANDARD
TZOFFSETFROM:-0400
TZOFFSETTO:-0500
TZNAME:EST
DTSTART:20251102T060000
END:STANDARD
BEGIN:DAYLIGHT
TZOFFSETFROM:-0500
TZOFFSETTO:-0400
TZNAME:EDT
DTSTART:20260308T070000
END:DAYLIGHT
BEGIN:STANDARD
TZOFFSETFROM:-0400
TZOFFSETTO:-0500
TZNAME:EST
DTSTART:20261101T060000
END:STANDARD
END:VTIMEZONE
BEGIN:VEVENT
DTSTART;TZID=America/Indiana/Indianapolis:20250604T130000
DTEND;TZID=America/Indiana/Indianapolis:20250604T150000
DTSTAMP:20260423T105625
CREATED:20250410T172525Z
LAST-MODIFIED:20250410T172525Z
UID:1745-1749042000-1749049200@argospubliclibrary.com
SUMMARY:Needle Queens
DESCRIPTION:Needle Queens Stitchers group is for individuals interested in knitting\, crochet\, cross-stitch\, quilting\, or other types of needlework. The meetings take place in the Margaret Neff Meeting Room at 1:00 pm on the first and third Wednesdays of each month with stitching and visiting on the agenda. It is not necessary to be a patron of the library to participate.
URL:https://argospubliclibrary.com/event/needle-queens-16/
CATEGORIES:Adult
ATTACH;FMTTYPE=image/jpeg:https://argospubliclibrary.com/wp-content/uploads/2024/12/Needle-Queens-.jpg
END:VEVENT
BEGIN:VEVENT
DTSTART;TZID=America/Indiana/Indianapolis:20250612T180000
DTEND;TZID=America/Indiana/Indianapolis:20250612T190000
DTSTAMP:20260423T105625
CREATED:20250513T200044Z
LAST-MODIFIED:20250521T162324Z
UID:1864-1749751200-1749754800@argospubliclibrary.com
SUMMARY:Diamond Art
DESCRIPTION:Adults join us for a relaxing evening of creativity and conversation! Design your own diamond-art corner bookmark and enjoy some company while you craft!
URL:https://argospubliclibrary.com/event/diamond-art/
CATEGORIES:Adult,Summer Reading Program
ATTACH;FMTTYPE=image/jpeg:https://argospubliclibrary.com/wp-content/uploads/2025/05/Summer-Reading-2025-Instagram-Flyers-1.jpg
END:VEVENT
BEGIN:VEVENT
DTSTART;TZID=America/Indiana/Indianapolis:20250618T130000
DTEND;TZID=America/Indiana/Indianapolis:20250618T150000
DTSTAMP:20260423T105625
CREATED:20250410T172554Z
LAST-MODIFIED:20250410T172554Z
UID:1747-1750251600-1750258800@argospubliclibrary.com
SUMMARY:Needle Queens
DESCRIPTION:Needle Queens Stitchers group is for individuals interested in knitting\, crochet\, cross-stitch\, quilting\, or other types of needlework. The meetings take place in the Margaret Neff Meeting Room at 1:00 pm on the first and third Wednesdays of each month with stitching and visiting on the agenda. It is not necessary to be a patron of the library to participate.
URL:https://argospubliclibrary.com/event/needle-queens-17/
CATEGORIES:Adult
ATTACH;FMTTYPE=image/jpeg:https://argospubliclibrary.com/wp-content/uploads/2024/12/Needle-Queens-.jpg
END:VEVENT
BEGIN:VEVENT
DTSTART;TZID=America/Indiana/Indianapolis:20250620T110000
DTEND;TZID=America/Indiana/Indianapolis:20250620T130000
DTSTAMP:20260423T105625
CREATED:20250411T185253Z
LAST-MODIFIED:20250522T172315Z
UID:1774-1750417200-1750424400@argospubliclibrary.com
SUMMARY:Conversation Cafe
DESCRIPTION:Adults\, join us for monthly Conversation Cafe\, where we’ll gather to socialize and create. Each month this summer\, we’ll enjoy a craft activity\, along with great conversations. Light refreshments of coffee and tea\, will be provided.\non June 20th at 11:00am-1:00pm\nactivity: Yarn Art Craft\nConversation Cafe invites adults 18 and above to engage in socialization and community building. Complimentary refreshments\, including coffee and tea\, will be provided\, accompanied by open discussions and activities like puzzles\, magazines\, card games\, and more for adults to participate in together. Conversation Cafe takes place monthly on the third Friday of the month! Seniors and stay-at-home adults\, are you looking for some social time and lively conversation? We’ve got just the program!
URL:https://argospubliclibrary.com/event/conversation-cafe-6/
CATEGORIES:Adult
ATTACH;FMTTYPE=image/png:https://argospubliclibrary.com/wp-content/uploads/2025/01/conversation-cafe.png
END:VEVENT
BEGIN:VEVENT
DTSTART;TZID=America/Indiana/Indianapolis:20250626T180000
DTEND;TZID=America/Indiana/Indianapolis:20250626T200000
DTSTAMP:20260423T105625
CREATED:20250521T135555Z
LAST-MODIFIED:20250522T155737Z
UID:1901-1750960800-1750968000@argospubliclibrary.com
SUMMARY:Paint Along with Laura Murphy
DESCRIPTION:Adults\, relax and unwind with a creative paint-along session led by local artist and certified Bob Ross instructor\, Laura Murphy. Follow along as Laura guides you through a soothing acrylic painting experience\, perfect for all skill levels!\n*Spots limited\, registration is required. Visit us or call to register your spot today!
URL:https://argospubliclibrary.com/event/paint-along-with-laura-murphy/
CATEGORIES:Adult,Summer Reading Program
ATTACH;FMTTYPE=image/jpeg:https://argospubliclibrary.com/wp-content/uploads/2025/05/Summer-Reading-2025-Instagram-Flyers-16.jpg
END:VEVENT
BEGIN:VEVENT
DTSTART;TZID=America/Indiana/Indianapolis:20250627T170000
DTEND;TZID=America/Indiana/Indianapolis:20250627T183000
DTSTAMP:20260423T105625
CREATED:20250529T212527Z
LAST-MODIFIED:20250612T193325Z
UID:1949-1751043600-1751049000@argospubliclibrary.com
SUMMARY:Paint your own Wooden Dice
DESCRIPTION:Adults are invited to paint a set of wooden 6-sided dice. Join us for a small craft and a game using our new die. \n 
URL:https://argospubliclibrary.com/event/paint-your-own-wooden-dice/
CATEGORIES:Adult,Summer Reading Program
ATTACH;FMTTYPE=image/jpeg:https://argospubliclibrary.com/wp-content/uploads/2025/05/summer-2025-banners-1.jpg
END:VEVENT
BEGIN:VEVENT
DTSTART;TZID=America/Indiana/Indianapolis:20250702T130000
DTEND;TZID=America/Indiana/Indianapolis:20250702T150000
DTSTAMP:20260423T105625
CREATED:20250410T172629Z
LAST-MODIFIED:20250410T172629Z
UID:1749-1751461200-1751468400@argospubliclibrary.com
SUMMARY:Needle Queens
DESCRIPTION:Needle Queens Stitchers group is for individuals interested in knitting\, crochet\, cross-stitch\, quilting\, or other types of needlework. The meetings take place in the Margaret Neff Meeting Room at 1:00 pm on the first and third Wednesdays of each month with stitching and visiting on the agenda. It is not necessary to be a patron of the library to participate.
URL:https://argospubliclibrary.com/event/needle-queens-18/
CATEGORIES:Adult
ATTACH;FMTTYPE=image/jpeg:https://argospubliclibrary.com/wp-content/uploads/2024/12/Needle-Queens-.jpg
END:VEVENT
BEGIN:VEVENT
DTSTART;TZID=America/Indiana/Indianapolis:20250710T180000
DTEND;TZID=America/Indiana/Indianapolis:20250710T190000
DTSTAMP:20260423T105625
CREATED:20250520T145503Z
LAST-MODIFIED:20250521T171002Z
UID:1895-1752170400-1752174000@argospubliclibrary.com
SUMMARY:Playing Card Painting
DESCRIPTION:Join us to paint a playing card and create a mini masterpiece.
URL:https://argospubliclibrary.com/event/playing-card-painting/
CATEGORIES:Adult,Summer Reading Program,Tween/Teen
ATTACH;FMTTYPE=image/jpeg:https://argospubliclibrary.com/wp-content/uploads/2025/05/Summer-Reading-2025-Instagram-Flyers-13.jpg
END:VEVENT
BEGIN:VEVENT
DTSTART;TZID=America/Indiana/Indianapolis:20250716T130000
DTEND;TZID=America/Indiana/Indianapolis:20250716T150000
DTSTAMP:20260423T105625
CREATED:20250410T172708Z
LAST-MODIFIED:20250410T172708Z
UID:1751-1752670800-1752678000@argospubliclibrary.com
SUMMARY:Needle Queens
DESCRIPTION:Needle Queens Stitchers group is for individuals interested in knitting\, crochet\, cross-stitch\, quilting\, or other types of needlework. The meetings take place in the Margaret Neff Meeting Room at 1:00 pm on the first and third Wednesdays of each month with stitching and visiting on the agenda. It is not necessary to be a patron of the library to participate.
URL:https://argospubliclibrary.com/event/needle-queens-19/
CATEGORIES:Adult
ATTACH;FMTTYPE=image/jpeg:https://argospubliclibrary.com/wp-content/uploads/2024/12/Needle-Queens-.jpg
END:VEVENT
BEGIN:VEVENT
DTSTART;TZID=America/Indiana/Indianapolis:20250718T110000
DTEND;TZID=America/Indiana/Indianapolis:20250718T130000
DTSTAMP:20260423T105625
CREATED:20250411T185326Z
LAST-MODIFIED:20250522T172520Z
UID:1776-1752836400-1752843600@argospubliclibrary.com
SUMMARY:Conversation Cafe
DESCRIPTION:Adults\, join us for monthly Conversation Cafe\, where we’ll gather to socialize and create. Each month this summer\, we’ll enjoy a craft activity\, along with great conversations. Light refreshments of coffee and tea\, will be provided.\non July 18th at 11:00am-1:00pm\nactivity: Book Page Luminary\nConversation Cafe invites adults 18 and above to engage in socialization and community building. Complimentary refreshments\, including coffee and tea\, will be provided\, accompanied by open discussions and activities like puzzles\, magazines\, card games\, and more for adults to participate in together. Conversation Cafe takes place monthly on the third Friday of the month! Seniors and stay-at-home adults\, are you looking for some social time and lively conversation? We’ve got just the program!
URL:https://argospubliclibrary.com/event/conversation-cafe-7/
CATEGORIES:Adult
ATTACH;FMTTYPE=image/png:https://argospubliclibrary.com/wp-content/uploads/2025/01/conversation-cafe.png
END:VEVENT
BEGIN:VEVENT
DTSTART;TZID=America/Indiana/Indianapolis:20250718T173000
DTEND;TZID=America/Indiana/Indianapolis:20250718T190000
DTSTAMP:20260423T105625
CREATED:20250520T191635Z
LAST-MODIFIED:20250521T171829Z
UID:1897-1752859800-1752865200@argospubliclibrary.com
SUMMARY:Masterpeice Mayhem
DESCRIPTION:Leave behind the idea of perfection and get creative at our art night with no limits. Artistic abilities not required. For adults and teens.
URL:https://argospubliclibrary.com/event/masterpeice-mayhem/
CATEGORIES:Adult,Tween/Teen
ATTACH;FMTTYPE=image/jpeg:https://argospubliclibrary.com/wp-content/uploads/2025/05/Summer-Reading-2025-Instagram-Flyers-15.jpg
END:VEVENT
BEGIN:VEVENT
DTSTART;TZID=America/Indiana/Indianapolis:20250806T130000
DTEND;TZID=America/Indiana/Indianapolis:20250806T150000
DTSTAMP:20260423T105625
CREATED:20250410T172753Z
LAST-MODIFIED:20250410T172753Z
UID:1753-1754485200-1754492400@argospubliclibrary.com
SUMMARY:Needle Queens
DESCRIPTION:Needle Queens Stitchers group is for individuals interested in knitting\, crochet\, cross-stitch\, quilting\, or other types of needlework. The meetings take place in the Margaret Neff Meeting Room at 1:00 pm on the first and third Wednesdays of each month with stitching and visiting on the agenda. It is not necessary to be a patron of the library to participate.
URL:https://argospubliclibrary.com/event/needle-queens-20/
CATEGORIES:Adult
ATTACH;FMTTYPE=image/jpeg:https://argospubliclibrary.com/wp-content/uploads/2024/12/Needle-Queens-.jpg
END:VEVENT
BEGIN:VEVENT
DTSTART;TZID=America/Indiana/Indianapolis:20250815T110000
DTEND;TZID=America/Indiana/Indianapolis:20250815T130000
DTSTAMP:20260423T105625
CREATED:20250411T185358Z
LAST-MODIFIED:20250411T185358Z
UID:1778-1755255600-1755262800@argospubliclibrary.com
SUMMARY:Conversation Cafe
DESCRIPTION:Conversation Cafe invites adults 18 and above to engage in socialization and community building. Complimentary refreshments\, including coffee and tea\, will be provided\, accompanied by open discussions and activities like puzzles\, magazines\, card games\, and more for adults to participate in together. Conversation Cafe takes place monthly on the third Friday of the month! Seniors and stay-at-home adults\, are you looking for some social time and lively conversation? We’ve got just the program!
URL:https://argospubliclibrary.com/event/conversation-cafe-8/
CATEGORIES:Adult
ATTACH;FMTTYPE=image/png:https://argospubliclibrary.com/wp-content/uploads/2025/01/conversation-cafe.png
END:VEVENT
BEGIN:VEVENT
DTSTART;TZID=America/Indiana/Indianapolis:20250820T130000
DTEND;TZID=America/Indiana/Indianapolis:20250820T150000
DTSTAMP:20260423T105625
CREATED:20250410T172823Z
LAST-MODIFIED:20250410T172823Z
UID:1755-1755694800-1755702000@argospubliclibrary.com
SUMMARY:Needle Queens
DESCRIPTION:Needle Queens Stitchers group is for individuals interested in knitting\, crochet\, cross-stitch\, quilting\, or other types of needlework. The meetings take place in the Margaret Neff Meeting Room at 1:00 pm on the first and third Wednesdays of each month with stitching and visiting on the agenda. It is not necessary to be a patron of the library to participate.
URL:https://argospubliclibrary.com/event/needle-queens-21/
CATEGORIES:Adult
ATTACH;FMTTYPE=image/jpeg:https://argospubliclibrary.com/wp-content/uploads/2024/12/Needle-Queens-.jpg
END:VEVENT
BEGIN:VEVENT
DTSTART;TZID=America/Indiana/Indianapolis:20250828T180000
DTEND;TZID=America/Indiana/Indianapolis:20250828T193000
DTSTAMP:20260423T105625
CREATED:20250410T172023Z
LAST-MODIFIED:20250410T172031Z
UID:1730-1756404000-1756409400@argospubliclibrary.com
SUMMARY:Hot Takes
DESCRIPTION:Join our monthly adult book club for lively discussion and fun activities! We explore various genres\, from thrillers to romance\, and everything in between. Meetings are held on the last Thursday of the month at 6 pm. Book copies are available at the library.
URL:https://argospubliclibrary.com/event/hot-takes-10/
CATEGORIES:Adult
ATTACH;FMTTYPE=image/jpeg:https://argospubliclibrary.com/wp-content/uploads/2025/04/March-1.jpg
END:VEVENT
BEGIN:VEVENT
DTSTART;TZID=America/Indiana/Indianapolis:20250903T130000
DTEND;TZID=America/Indiana/Indianapolis:20250903T150000
DTSTAMP:20260423T105625
CREATED:20250411T184438Z
LAST-MODIFIED:20250411T184438Z
UID:1757-1756904400-1756911600@argospubliclibrary.com
SUMMARY:Needle Queens
DESCRIPTION:Needle Queens Stitchers group is for individuals interested in knitting\, crochet\, cross-stitch\, quilting\, or other types of needlework. The meetings take place in the Margaret Neff Meeting Room at 1:00 pm on the first and third Wednesdays of each month with stitching and visiting on the agenda. It is not necessary to be a patron of the library to participate.
URL:https://argospubliclibrary.com/event/needle-queens-22/
CATEGORIES:Adult
ATTACH;FMTTYPE=image/jpeg:https://argospubliclibrary.com/wp-content/uploads/2024/12/Needle-Queens-.jpg
END:VEVENT
BEGIN:VEVENT
DTSTART;TZID=America/Indiana/Indianapolis:20250917T130000
DTEND;TZID=America/Indiana/Indianapolis:20250917T150000
DTSTAMP:20260423T105625
CREATED:20250411T184524Z
LAST-MODIFIED:20250411T184524Z
UID:1759-1758114000-1758121200@argospubliclibrary.com
SUMMARY:Needle Queens
DESCRIPTION:Needle Queens Stitchers group is for individuals interested in knitting\, crochet\, cross-stitch\, quilting\, or other types of needlework. The meetings take place in the Margaret Neff Meeting Room at 1:00 pm on the first and third Wednesdays of each month with stitching and visiting on the agenda. It is not necessary to be a patron of the library to participate.
URL:https://argospubliclibrary.com/event/needle-queens-23/
CATEGORIES:Adult
ATTACH;FMTTYPE=image/jpeg:https://argospubliclibrary.com/wp-content/uploads/2024/12/Needle-Queens-.jpg
END:VEVENT
BEGIN:VEVENT
DTSTART;TZID=America/Indiana/Indianapolis:20250925T180000
DTEND;TZID=America/Indiana/Indianapolis:20250925T193000
DTSTAMP:20260423T105625
CREATED:20250410T172102Z
LAST-MODIFIED:20250410T172102Z
UID:1734-1758823200-1758828600@argospubliclibrary.com
SUMMARY:Hot Takes
DESCRIPTION:Join our monthly adult book club for lively discussion and fun activities! We explore various genres\, from thrillers to romance\, and everything in between. Meetings are held on the last Thursday of the month at 6 pm. Book copies are available at the library.
URL:https://argospubliclibrary.com/event/hot-takes-11/
CATEGORIES:Adult
ATTACH;FMTTYPE=image/jpeg:https://argospubliclibrary.com/wp-content/uploads/2025/04/March-1.jpg
END:VEVENT
BEGIN:VEVENT
DTSTART;TZID=America/Indiana/Indianapolis:20250926T110000
DTEND;TZID=America/Indiana/Indianapolis:20250926T130000
DTSTAMP:20260423T105625
CREATED:20250411T185449Z
LAST-MODIFIED:20250826T143806Z
UID:1780-1758884400-1758891600@argospubliclibrary.com
SUMMARY:Conversation Cafe
DESCRIPTION:Conversation Cafe invites adults 18 and above to engage in socialization and community building. Complimentary refreshments\, including coffee and tea\, will be provided\, accompanied by open discussions and activities like puzzles\, magazines\, card games\, and more for adults to participate in together. Conversation Cafe takes place monthly on the third Friday of the month! Seniors and stay-at-home adults\, are you looking for some social time and lively conversation? We’ve got just the program!
URL:https://argospubliclibrary.com/event/conversation-cafe-9/
CATEGORIES:Adult
ATTACH;FMTTYPE=image/jpeg:https://argospubliclibrary.com/wp-content/uploads/2025/04/conversation-cafe-1920-x-1080-px.jpg
END:VEVENT
BEGIN:VEVENT
DTSTART;TZID=America/Indiana/Indianapolis:20251001T130000
DTEND;TZID=America/Indiana/Indianapolis:20251001T150000
DTSTAMP:20260423T105625
CREATED:20250411T184609Z
LAST-MODIFIED:20250411T184609Z
UID:1761-1759323600-1759330800@argospubliclibrary.com
SUMMARY:Needle Queens
DESCRIPTION:Needle Queens Stitchers group is for individuals interested in knitting\, crochet\, cross-stitch\, quilting\, or other types of needlework. The meetings take place in the Margaret Neff Meeting Room at 1:00 pm on the first and third Wednesdays of each month with stitching and visiting on the agenda. It is not necessary to be a patron of the library to participate.
URL:https://argospubliclibrary.com/event/needle-queens-24/
CATEGORIES:Adult
ATTACH;FMTTYPE=image/jpeg:https://argospubliclibrary.com/wp-content/uploads/2024/12/Needle-Queens-.jpg
END:VEVENT
BEGIN:VEVENT
DTSTART;TZID=America/Indiana/Indianapolis:20251003T180000
DTEND;TZID=America/Indiana/Indianapolis:20251003T200000
DTSTAMP:20260423T105625
CREATED:20250908T182157Z
LAST-MODIFIED:20250919T140737Z
UID:2043-1759514400-1759521600@argospubliclibrary.com
SUMMARY:Book Page Pumpkin
DESCRIPTION:Upcycle old books and transform them into adorable Autumn themed DIY pumpkin decor. Supplies will be provided\, but are limited. Register to secure your spot by visiting or calling the library at 574-892-5818. This program is designed for adults; teens 14+ must be accompanied by an adult parent or guardian to participate.
URL:https://argospubliclibrary.com/event/book-page-pumpkin/
CATEGORIES:Adult,Tween/Teen
ATTACH;FMTTYPE=image/jpeg:https://argospubliclibrary.com/wp-content/uploads/2025/09/Oct-Adult-DIY-1.jpg
END:VEVENT
BEGIN:VEVENT
DTSTART;TZID=America/Indiana/Indianapolis:20251015T130000
DTEND;TZID=America/Indiana/Indianapolis:20251015T150000
DTSTAMP:20260423T105625
CREATED:20250908T182508Z
LAST-MODIFIED:20250908T182508Z
UID:2048-1760533200-1760540400@argospubliclibrary.com
SUMMARY:Needle Queens
DESCRIPTION:Needle Queens Stitchers group is for individuals interested in knitting\, crochet\, cross-stitch\, quilting\, or other types of needlework. The meetings take place in the Margaret Neff Meeting Room at 1:00 pm on the first and third Wednesdays of each month with stitching and visiting on the agenda. It is not necessary to be a patron of the library to participate.
URL:https://argospubliclibrary.com/event/needle-queens-29/
CATEGORIES:Adult
ATTACH;FMTTYPE=image/jpeg:https://argospubliclibrary.com/wp-content/uploads/2024/12/Needle-Queens-.jpg
END:VEVENT
BEGIN:VEVENT
DTSTART;TZID=America/Indiana/Indianapolis:20251024T110000
DTEND;TZID=America/Indiana/Indianapolis:20251024T130000
DTSTAMP:20260423T105625
CREATED:20250411T185526Z
LAST-MODIFIED:20250826T143739Z
UID:1782-1761303600-1761310800@argospubliclibrary.com
SUMMARY:Conversation Cafe
DESCRIPTION:Conversation Cafe invites adults 18 and above to engage in socialization and community building. Complimentary refreshments\, including coffee and tea\, will be provided\, accompanied by open discussions and activities like puzzles\, magazines\, card games\, and more for adults to participate in together. Conversation Cafe takes place monthly on the third Friday of the month! Seniors and stay-at-home adults\, are you looking for some social time and lively conversation? We’ve got just the program!
URL:https://argospubliclibrary.com/event/conversation-cafe-10/
CATEGORIES:Adult
ATTACH;FMTTYPE=image/jpeg:https://argospubliclibrary.com/wp-content/uploads/2025/04/conversation-cafe-1920-x-1080-px.jpg
END:VEVENT
BEGIN:VEVENT
DTSTART;TZID=America/Indiana/Indianapolis:20251030T180000
DTEND;TZID=America/Indiana/Indianapolis:20251030T193000
DTSTAMP:20260423T105625
CREATED:20250410T172132Z
LAST-MODIFIED:20250410T172132Z
UID:1736-1761847200-1761852600@argospubliclibrary.com
SUMMARY:Hot Takes
DESCRIPTION:Join our monthly adult book club for lively discussion and fun activities! We explore various genres\, from thrillers to romance\, and everything in between. Meetings are held on the last Thursday of the month at 6 pm. Book copies are available at the library.
URL:https://argospubliclibrary.com/event/hot-takes-12/
CATEGORIES:Adult
ATTACH;FMTTYPE=image/jpeg:https://argospubliclibrary.com/wp-content/uploads/2025/04/March-1.jpg
END:VEVENT
BEGIN:VEVENT
DTSTART;TZID=America/Indiana/Indianapolis:20251105T130000
DTEND;TZID=America/Indiana/Indianapolis:20251105T150000
DTSTAMP:20260423T105625
CREATED:20250411T184642Z
LAST-MODIFIED:20250411T184642Z
UID:1763-1762347600-1762354800@argospubliclibrary.com
SUMMARY:Needle Queens
DESCRIPTION:Needle Queens Stitchers group is for individuals interested in knitting\, crochet\, cross-stitch\, quilting\, or other types of needlework. The meetings take place in the Margaret Neff Meeting Room at 1:00 pm on the first and third Wednesdays of each month with stitching and visiting on the agenda. It is not necessary to be a patron of the library to participate.
URL:https://argospubliclibrary.com/event/needle-queens-25/
CATEGORIES:Adult
ATTACH;FMTTYPE=image/jpeg:https://argospubliclibrary.com/wp-content/uploads/2024/12/Needle-Queens-.jpg
END:VEVENT
BEGIN:VEVENT
DTSTART;TZID=America/Indiana/Indianapolis:20251119T130000
DTEND;TZID=America/Indiana/Indianapolis:20251119T150000
DTSTAMP:20260423T105625
CREATED:20250411T184711Z
LAST-MODIFIED:20250411T184711Z
UID:1765-1763557200-1763564400@argospubliclibrary.com
SUMMARY:Needle Queens
DESCRIPTION:Needle Queens Stitchers group is for individuals interested in knitting\, crochet\, cross-stitch\, quilting\, or other types of needlework. The meetings take place in the Margaret Neff Meeting Room at 1:00 pm on the first and third Wednesdays of each month with stitching and visiting on the agenda. It is not necessary to be a patron of the library to participate.
URL:https://argospubliclibrary.com/event/needle-queens-26/
CATEGORIES:Adult
ATTACH;FMTTYPE=image/jpeg:https://argospubliclibrary.com/wp-content/uploads/2024/12/Needle-Queens-.jpg
END:VEVENT
BEGIN:VEVENT
DTSTART;TZID=America/Indiana/Indianapolis:20251120T180000
DTEND;TZID=America/Indiana/Indianapolis:20251120T190000
DTSTAMP:20260423T105625
CREATED:20251007T191340Z
LAST-MODIFIED:20251110T150323Z
UID:2134-1763661600-1763665200@argospubliclibrary.com
SUMMARY:Hot Takes
DESCRIPTION:Hot Takes\, our monthly adult book club\, invites you to it’s final meeting of 2025! Join us on Thursday\, November 20th at 6:00pm to discuss ‘Chocolate Chip Cookie Murder’ by Joanne Fluke\, and enjoy a cookie swap by bringing a plate of cookies to exchange! Copies are available to reserve now.
URL:https://argospubliclibrary.com/event/hot-takes-14/
CATEGORIES:Adult
ATTACH;FMTTYPE=image/png:https://argospubliclibrary.com/wp-content/uploads/2025/11/hot-takes-website.png
END:VEVENT
BEGIN:VEVENT
DTSTART;TZID=America/Indiana/Indianapolis:20251203T130000
DTEND;TZID=America/Indiana/Indianapolis:20251203T150000
DTSTAMP:20260423T105625
CREATED:20250411T184752Z
LAST-MODIFIED:20250411T184752Z
UID:1767-1764766800-1764774000@argospubliclibrary.com
SUMMARY:Needle Queens
DESCRIPTION:Needle Queens Stitchers group is for individuals interested in knitting\, crochet\, cross-stitch\, quilting\, or other types of needlework. The meetings take place in the Margaret Neff Meeting Room at 1:00 pm on the first and third Wednesdays of each month with stitching and visiting on the agenda. It is not necessary to be a patron of the library to participate.
URL:https://argospubliclibrary.com/event/needle-queens-27/
CATEGORIES:Adult
ATTACH;FMTTYPE=image/jpeg:https://argospubliclibrary.com/wp-content/uploads/2024/12/Needle-Queens-.jpg
END:VEVENT
BEGIN:VEVENT
DTSTART;TZID=America/Indiana/Indianapolis:20251205T180000
DTEND;TZID=America/Indiana/Indianapolis:20251205T190000
DTSTAMP:20260423T105625
CREATED:20251107T163352Z
LAST-MODIFIED:20251117T153307Z
UID:2198-1764957600-1764961200@argospubliclibrary.com
SUMMARY:Holiday DIY
DESCRIPTION:We invite adults to join us at the Argos Public Library\, for an hour of holiday inspired creativity. Craft this unique festive tree made from pages of an old book. Supplies will be provided\, but are limited – please register to secure a spot!
URL:https://argospubliclibrary.com/event/holiday-diy/
CATEGORIES:Adult
ATTACH;FMTTYPE=image/png:https://argospubliclibrary.com/wp-content/uploads/2025/11/instagram.png
END:VEVENT
BEGIN:VEVENT
DTSTART;TZID=America/Indiana/Indianapolis:20251217T130000
DTEND;TZID=America/Indiana/Indianapolis:20251217T150000
DTSTAMP:20260423T105625
CREATED:20250411T184921Z
LAST-MODIFIED:20250411T184921Z
UID:1770-1765976400-1765983600@argospubliclibrary.com
SUMMARY:Needle Queens
DESCRIPTION:Needle Queens Stitchers group is for individuals interested in knitting\, crochet\, cross-stitch\, quilting\, or other types of needlework. The meetings take place in the Margaret Neff Meeting Room at 1:00 pm on the first and third Wednesdays of each month with stitching and visiting on the agenda. It is not necessary to be a patron of the library to participate.
URL:https://argospubliclibrary.com/event/needle-queens-28/
CATEGORIES:Adult
ATTACH;FMTTYPE=image/jpeg:https://argospubliclibrary.com/wp-content/uploads/2024/12/Needle-Queens-.jpg
END:VEVENT
END:VCALENDAR